BEGIN:VCALENDAR
VERSION:2.0
PRODID:-//Goodmayes Primary School - ECPv6.15.20//NONSGML v1.0//EN
CALSCALE:GREGORIAN
METHOD:PUBLISH
X-WR-CALNAME:Goodmayes Primary School
X-ORIGINAL-URL:https://goodmayesprimary.school
X-WR-CALDESC:Events for Goodmayes Primary School
REFRESH-INTERVAL;VALUE=DURATION:PT1H
X-Robots-Tag:noindex
X-PUBLISHED-TTL:PT1H
BEGIN:VTIMEZONE
TZID:Europe/London
BEGIN:DAYLIGHT
TZOFFSETFROM:+0000
TZOFFSETTO:+0100
TZNAME:BST
DTSTART:20180325T010000
END:DAYLIGHT
BEGIN:STANDARD
TZOFFSETFROM:+0100
TZOFFSETTO:+0000
TZNAME:GMT
DTSTART:20181028T010000
END:STANDARD
BEGIN:DAYLIGHT
TZOFFSETFROM:+0000
TZOFFSETTO:+0100
TZNAME:BST
DTSTART:20190331T010000
END:DAYLIGHT
BEGIN:STANDARD
TZOFFSETFROM:+0100
TZOFFSETTO:+0000
TZNAME:GMT
DTSTART:20191027T010000
END:STANDARD
BEGIN:DAYLIGHT
TZOFFSETFROM:+0000
TZOFFSETTO:+0100
TZNAME:BST
DTSTART:20200329T010000
END:DAYLIGHT
BEGIN:STANDARD
TZOFFSETFROM:+0100
TZOFFSETTO:+0000
TZNAME:GMT
DTSTART:20201025T010000
END:STANDARD
END:VTIMEZONE
BEGIN:VEVENT
DTSTART;TZID=Europe/London:20190603T090000
DTEND;TZID=Europe/London:20190603T151500
DTSTAMP:20260426T052959
CREATED:20190426T115446Z
LAST-MODIFIED:20190426T115446Z
UID:16219-1559552400-1559574900@goodmayesprimary.school
SUMMARY:Return to School
DESCRIPTION:
URL:https://goodmayesprimary.school/event/return-to-school/
CATEGORIES:Children Events
END:VEVENT
BEGIN:VEVENT
DTSTART;TZID=Europe/London:20190606T093000
DTEND;TZID=Europe/London:20190606T140000
DTSTAMP:20260426T052959
CREATED:20190603T113446Z
LAST-MODIFIED:20190604T151531Z
UID:16242-1559813400-1559829600@goodmayesprimary.school
SUMMARY:Dental Checks
DESCRIPTION:For Nursery\, Reception and Year 1 pupils
URL:https://goodmayesprimary.school/event/dental-checks-2/
CATEGORIES:Children Events
END:VEVENT
BEGIN:VEVENT
DTSTART;VALUE=DATE:20190613
DTEND;VALUE=DATE:20190614
DTSTAMP:20260426T052959
CREATED:20190604T145955Z
LAST-MODIFIED:20190604T150029Z
UID:16257-1560384000-1560470399@goodmayesprimary.school
SUMMARY:Reception Hearing and Vision
DESCRIPTION:
URL:https://goodmayesprimary.school/event/reception-hearing-and-vision/
CATEGORIES:Children Events
END:VEVENT
END:VCALENDAR