BEGIN:VCALENDAR
VERSION:2.0
PRODID:-//Goodmayes Primary School - ECPv6.15.20//NONSGML v1.0//EN
CALSCALE:GREGORIAN
METHOD:PUBLISH
X-ORIGINAL-URL:https://goodmayesprimary.school
X-WR-CALDESC:Events for Goodmayes Primary School
REFRESH-INTERVAL;VALUE=DURATION:PT1H
X-Robots-Tag:noindex
X-PUBLISHED-TTL:PT1H
BEGIN:VTIMEZONE
TZID:Europe/London
BEGIN:DAYLIGHT
TZOFFSETFROM:+0000
TZOFFSETTO:+0100
TZNAME:BST
DTSTART:20180325T010000
END:DAYLIGHT
BEGIN:STANDARD
TZOFFSETFROM:+0100
TZOFFSETTO:+0000
TZNAME:GMT
DTSTART:20181028T010000
END:STANDARD
BEGIN:DAYLIGHT
TZOFFSETFROM:+0000
TZOFFSETTO:+0100
TZNAME:BST
DTSTART:20190331T010000
END:DAYLIGHT
BEGIN:STANDARD
TZOFFSETFROM:+0100
TZOFFSETTO:+0000
TZNAME:GMT
DTSTART:20191027T010000
END:STANDARD
BEGIN:DAYLIGHT
TZOFFSETFROM:+0000
TZOFFSETTO:+0100
TZNAME:BST
DTSTART:20200329T010000
END:DAYLIGHT
BEGIN:STANDARD
TZOFFSETFROM:+0100
TZOFFSETTO:+0000
TZNAME:GMT
DTSTART:20201025T010000
END:STANDARD
END:VTIMEZONE
BEGIN:VEVENT
DTSTART;TZID=Europe/London:20191004T093000
DTEND;TZID=Europe/London:20191004T100000
DTSTAMP:20260426T003245
CREATED:20190918T121744Z
LAST-MODIFIED:20190918T141123Z
UID:16336-1570181400-1570183200@goodmayesprimary.school
SUMMARY:Harvest Assembly
DESCRIPTION:
URL:https://goodmayesprimary.school/event/harvest-assembly/
CATEGORIES:Children Events
END:VEVENT
BEGIN:VEVENT
DTSTART;TZID=Europe/London:20191007T093000
DTEND;TZID=Europe/London:20191008T150000
DTSTAMP:20260426T003245
CREATED:20190918T122337Z
LAST-MODIFIED:20190918T122346Z
UID:16338-1570440600-1570546800@goodmayesprimary.school
SUMMARY:Bikeability Training
DESCRIPTION:
URL:https://goodmayesprimary.school/event/bikeability-training/
CATEGORIES:Children Events
END:VEVENT
BEGIN:VEVENT
DTSTART;TZID=Europe/London:20191008T093000
DTEND;TZID=Europe/London:20191008T150000
DTSTAMP:20260426T003245
CREATED:20190918T122551Z
LAST-MODIFIED:20190918T122551Z
UID:16340-1570527000-1570546800@goodmayesprimary.school
SUMMARY:Yr 3 In School Owl Visit
DESCRIPTION:
URL:https://goodmayesprimary.school/event/yr-3-in-school-owl-visit/
CATEGORIES:Children Events
END:VEVENT
BEGIN:VEVENT
DTSTART;TZID=Europe/London:20191011T090000
DTEND;TZID=Europe/London:20191011T150000
DTSTAMP:20260426T003245
CREATED:20190918T133050Z
LAST-MODIFIED:20190918T133104Z
UID:16344-1570784400-1570806000@goodmayesprimary.school
SUMMARY:Yr 6 In School Visit - Portals To The PAst
DESCRIPTION:
URL:https://goodmayesprimary.school/event/yr-6-in-school-visit-portals-to-the-past/
CATEGORIES:Children Events
END:VEVENT
BEGIN:VEVENT
DTSTART;VALUE=DATE:20191018
DTEND;VALUE=DATE:20191019
DTSTAMP:20260426T003245
CREATED:20190918T133409Z
LAST-MODIFIED:20190918T133409Z
UID:16350-1571356800-1571443199@goodmayesprimary.school
SUMMARY:Dr Bike
DESCRIPTION:
URL:https://goodmayesprimary.school/event/dr-bike-2/
CATEGORIES:Children Events
END:VEVENT
BEGIN:VEVENT
DTSTART;VALUE=DATE:20191029
DTEND;VALUE=DATE:20191030
DTSTAMP:20260426T003245
CREATED:20190918T140653Z
LAST-MODIFIED:20190918T141426Z
UID:16356-1572307200-1572393599@goodmayesprimary.school
SUMMARY:Yr 2 In School Visit - Rainbow Theatre
DESCRIPTION:
URL:https://goodmayesprimary.school/event/yr-2-in-school-visit-rainbow-theatre/
CATEGORIES:Children Events
END:VEVENT
BEGIN:VEVENT
DTSTART;VALUE=DATE:20191030
DTEND;VALUE=DATE:20191031
DTSTAMP:20260426T003245
CREATED:20191002T113617Z
LAST-MODIFIED:20191002T113622Z
UID:16374-1572393600-1572479999@goodmayesprimary.school
SUMMARY:Solo and Sibling Photographs
DESCRIPTION:
URL:https://goodmayesprimary.school/event/solo-and-sibling-photographs/
CATEGORIES:Children Events
END:VEVENT
BEGIN:VEVENT
DTSTART;VALUE=DATE:20191031
DTEND;VALUE=DATE:20191101
DTSTAMP:20260426T003245
CREATED:20190918T141036Z
LAST-MODIFIED:20190918T141036Z
UID:16358-1572480000-1572566399@goodmayesprimary.school
SUMMARY:Yr 3 In School Visit - Portals to the Past
DESCRIPTION:
URL:https://goodmayesprimary.school/event/yr-3-in-school-visit-portals-to-the-past/
CATEGORIES:Children Events
END:VEVENT
END:VCALENDAR