BEGIN:VCALENDAR
VERSION:2.0
PRODID:-//Goodmayes Primary School - ECPv6.15.20//NONSGML v1.0//EN
CALSCALE:GREGORIAN
METHOD:PUBLISH
X-ORIGINAL-URL:https://goodmayesprimary.school
X-WR-CALDESC:Events for Goodmayes Primary School
REFRESH-INTERVAL;VALUE=DURATION:PT1H
X-Robots-Tag:noindex
X-PUBLISHED-TTL:PT1H
BEGIN:VTIMEZONE
TZID:Europe/London
BEGIN:DAYLIGHT
TZOFFSETFROM:+0000
TZOFFSETTO:+0100
TZNAME:BST
DTSTART:20190331T010000
END:DAYLIGHT
BEGIN:STANDARD
TZOFFSETFROM:+0100
TZOFFSETTO:+0000
TZNAME:GMT
DTSTART:20191027T010000
END:STANDARD
BEGIN:DAYLIGHT
TZOFFSETFROM:+0000
TZOFFSETTO:+0100
TZNAME:BST
DTSTART:20200329T010000
END:DAYLIGHT
BEGIN:STANDARD
TZOFFSETFROM:+0100
TZOFFSETTO:+0000
TZNAME:GMT
DTSTART:20201025T010000
END:STANDARD
BEGIN:DAYLIGHT
TZOFFSETFROM:+0000
TZOFFSETTO:+0100
TZNAME:BST
DTSTART:20210328T010000
END:DAYLIGHT
BEGIN:STANDARD
TZOFFSETFROM:+0100
TZOFFSETTO:+0000
TZNAME:GMT
DTSTART:20211031T010000
END:STANDARD
END:VTIMEZONE
BEGIN:VEVENT
DTSTART;TZID=Europe/London:20200106T090000
DTEND;TZID=Europe/London:20200106T151500
DTSTAMP:20260425T124855
CREATED:20191219T163005Z
LAST-MODIFIED:20191219T164722Z
UID:16546-1578301200-1578323700@goodmayesprimary.school
SUMMARY:First Day of Spring Term
DESCRIPTION:
URL:https://goodmayesprimary.school/event/first-day-of-spring-term-2/
CATEGORIES:Children Events
END:VEVENT
BEGIN:VEVENT
DTSTART;VALUE=DATE:20200113
DTEND;VALUE=DATE:20200114
DTSTAMP:20260425T124855
CREATED:20200108T130149Z
LAST-MODIFIED:20200108T130234Z
UID:16554-1578873600-1578959999@goodmayesprimary.school
SUMMARY:Year 4 Lego Workshop - In School Visit
DESCRIPTION:
URL:https://goodmayesprimary.school/event/year-4-lego-workshop-in-school/
CATEGORIES:Children Events
END:VEVENT
END:VCALENDAR