BEGIN:VCALENDAR
VERSION:2.0
PRODID:-//Goodmayes Primary School - ECPv6.15.20//NONSGML v1.0//EN
CALSCALE:GREGORIAN
METHOD:PUBLISH
X-WR-CALNAME:Goodmayes Primary School
X-ORIGINAL-URL:https://goodmayesprimary.school
X-WR-CALDESC:Events for Goodmayes Primary School
REFRESH-INTERVAL;VALUE=DURATION:PT1H
X-Robots-Tag:noindex
X-PUBLISHED-TTL:PT1H
BEGIN:VTIMEZONE
TZID:Europe/London
BEGIN:DAYLIGHT
TZOFFSETFROM:+0000
TZOFFSETTO:+0100
TZNAME:BST
DTSTART:20190331T010000
END:DAYLIGHT
BEGIN:STANDARD
TZOFFSETFROM:+0100
TZOFFSETTO:+0000
TZNAME:GMT
DTSTART:20191027T010000
END:STANDARD
BEGIN:DAYLIGHT
TZOFFSETFROM:+0000
TZOFFSETTO:+0100
TZNAME:BST
DTSTART:20200329T010000
END:DAYLIGHT
BEGIN:STANDARD
TZOFFSETFROM:+0100
TZOFFSETTO:+0000
TZNAME:GMT
DTSTART:20201025T010000
END:STANDARD
BEGIN:DAYLIGHT
TZOFFSETFROM:+0000
TZOFFSETTO:+0100
TZNAME:BST
DTSTART:20210328T010000
END:DAYLIGHT
BEGIN:STANDARD
TZOFFSETFROM:+0100
TZOFFSETTO:+0000
TZNAME:GMT
DTSTART:20211031T010000
END:STANDARD
END:VTIMEZONE
BEGIN:VEVENT
DTSTART;TZID=Europe/London:20201214T130000
DTEND;TZID=Europe/London:20201214T150000
DTSTAMP:20260424T122913
CREATED:20201204T144545Z
LAST-MODIFIED:20201204T144652Z
UID:17236-1607950800-1607958000@goodmayesprimary.school
SUMMARY:Yr 1 Christmas Party 🎅 🎄
DESCRIPTION:
URL:https://goodmayesprimary.school/event/yr-1-christmas-party/
CATEGORIES:Children Events
END:VEVENT
BEGIN:VEVENT
DTSTART;TZID=Europe/London:20201216T120000
DTEND;TZID=Europe/London:20201216T150000
DTSTAMP:20260424T122913
CREATED:20201127T154618Z
LAST-MODIFIED:20201204T145329Z
UID:17218-1608120000-1608130800@goodmayesprimary.school
SUMMARY:EYFS Christmas Party🎅🎄
DESCRIPTION:
URL:https://goodmayesprimary.school/event/eyfs-christmas-party-3/
CATEGORIES:Children Events
END:VEVENT
BEGIN:VEVENT
DTSTART;TZID=Europe/London:20201217T130000
DTEND;TZID=Europe/London:20201217T150000
DTSTAMP:20260424T122913
CREATED:20201204T145000Z
LAST-MODIFIED:20201204T145008Z
UID:17242-1608210000-1608217200@goodmayesprimary.school
SUMMARY:KS2 Christmas Party 🎅🎄
DESCRIPTION:
URL:https://goodmayesprimary.school/event/ks2-christmas-party-%f0%9f%8e%85%f0%9f%8e%84/
CATEGORIES:Children Events
END:VEVENT
END:VCALENDAR