BEGIN:VCALENDAR
VERSION:2.0
PRODID:-//Goodmayes Primary School - ECPv6.15.20//NONSGML v1.0//EN
CALSCALE:GREGORIAN
METHOD:PUBLISH
X-WR-CALNAME:Goodmayes Primary School
X-ORIGINAL-URL:https://goodmayesprimary.school
X-WR-CALDESC:Events for Goodmayes Primary School
REFRESH-INTERVAL;VALUE=DURATION:PT1H
X-Robots-Tag:noindex
X-PUBLISHED-TTL:PT1H
BEGIN:VTIMEZONE
TZID:Europe/London
BEGIN:DAYLIGHT
TZOFFSETFROM:+0000
TZOFFSETTO:+0100
TZNAME:BST
DTSTART:20200329T010000
END:DAYLIGHT
BEGIN:STANDARD
TZOFFSETFROM:+0100
TZOFFSETTO:+0000
TZNAME:GMT
DTSTART:20201025T010000
END:STANDARD
BEGIN:DAYLIGHT
TZOFFSETFROM:+0000
TZOFFSETTO:+0100
TZNAME:BST
DTSTART:20210328T010000
END:DAYLIGHT
BEGIN:STANDARD
TZOFFSETFROM:+0100
TZOFFSETTO:+0000
TZNAME:GMT
DTSTART:20211031T010000
END:STANDARD
BEGIN:DAYLIGHT
TZOFFSETFROM:+0000
TZOFFSETTO:+0100
TZNAME:BST
DTSTART:20220327T010000
END:DAYLIGHT
BEGIN:STANDARD
TZOFFSETFROM:+0100
TZOFFSETTO:+0000
TZNAME:GMT
DTSTART:20221030T010000
END:STANDARD
END:VTIMEZONE
BEGIN:VEVENT
DTSTART;VALUE=DATE:20210608
DTEND;VALUE=DATE:20210609
DTSTAMP:20260423T234209
CREATED:20210524T150755Z
LAST-MODIFIED:20210524T151448Z
UID:17505-1623110400-1623196799@goodmayesprimary.school
SUMMARY:Essex Reptile Centre Visiting EYFS
DESCRIPTION:
URL:https://goodmayesprimary.school/event/reptile-encounter-in-school-visit-eyfs/
CATEGORIES:Children Events
END:VEVENT
BEGIN:VEVENT
DTSTART;VALUE=DATE:20210610
DTEND;VALUE=DATE:20210611
DTSTAMP:20260423T234209
CREATED:20210524T151018Z
LAST-MODIFIED:20210524T151018Z
UID:17507-1623283200-1623369599@goodmayesprimary.school
SUMMARY:Essex Reptile Centre Visiting KS1
DESCRIPTION:
URL:https://goodmayesprimary.school/event/essex-reptile-centre-visiting-ks1/
CATEGORIES:Children Events
END:VEVENT
BEGIN:VEVENT
DTSTART;VALUE=DATE:20210615
DTEND;VALUE=DATE:20210616
DTSTAMP:20260423T234209
CREATED:20210524T151245Z
LAST-MODIFIED:20210524T151245Z
UID:17511-1623715200-1623801599@goodmayesprimary.school
SUMMARY:Wellgate Farm Visiting EYFS
DESCRIPTION:
URL:https://goodmayesprimary.school/event/wellgate-farm-visiting-eyfs/
CATEGORIES:Children Events
END:VEVENT
BEGIN:VEVENT
DTSTART;VALUE=DATE:20210618
DTEND;VALUE=DATE:20210619
DTSTAMP:20260423T234209
CREATED:20210524T151106Z
LAST-MODIFIED:20210524T151106Z
UID:17509-1623974400-1624060799@goodmayesprimary.school
SUMMARY:Essex Reptile Centre Visiting Yr6
DESCRIPTION:
URL:https://goodmayesprimary.school/event/essex-reptile-centre-visiting-yr6/
CATEGORIES:Children Events
END:VEVENT
BEGIN:VEVENT
DTSTART;TZID=Europe/London:20210623T093000
DTEND;TZID=Europe/London:20210623T130000
DTSTAMP:20260423T234209
CREATED:20210524T150639Z
LAST-MODIFIED:20210524T150639Z
UID:17503-1624440600-1624453200@goodmayesprimary.school
SUMMARY:Class Photographs
DESCRIPTION:
URL:https://goodmayesprimary.school/event/class-photographs-2/
CATEGORIES:Children Events
END:VEVENT
END:VCALENDAR