BEGIN:VCALENDAR
VERSION:2.0
PRODID:-//Goodmayes Primary School - ECPv6.15.20//NONSGML v1.0//EN
CALSCALE:GREGORIAN
METHOD:PUBLISH
X-ORIGINAL-URL:https://goodmayesprimary.school
X-WR-CALDESC:Events for Goodmayes Primary School
REFRESH-INTERVAL;VALUE=DURATION:PT1H
X-Robots-Tag:noindex
X-PUBLISHED-TTL:PT1H
BEGIN:VTIMEZONE
TZID:Europe/London
BEGIN:DAYLIGHT
TZOFFSETFROM:+0000
TZOFFSETTO:+0100
TZNAME:BST
DTSTART:20200329T010000
END:DAYLIGHT
BEGIN:STANDARD
TZOFFSETFROM:+0100
TZOFFSETTO:+0000
TZNAME:GMT
DTSTART:20201025T010000
END:STANDARD
BEGIN:DAYLIGHT
TZOFFSETFROM:+0000
TZOFFSETTO:+0100
TZNAME:BST
DTSTART:20210328T010000
END:DAYLIGHT
BEGIN:STANDARD
TZOFFSETFROM:+0100
TZOFFSETTO:+0000
TZNAME:GMT
DTSTART:20211031T010000
END:STANDARD
BEGIN:DAYLIGHT
TZOFFSETFROM:+0000
TZOFFSETTO:+0100
TZNAME:BST
DTSTART:20220327T010000
END:DAYLIGHT
BEGIN:STANDARD
TZOFFSETFROM:+0100
TZOFFSETTO:+0000
TZNAME:GMT
DTSTART:20221030T010000
END:STANDARD
END:VTIMEZONE
BEGIN:VEVENT
DTSTART;VALUE=DATE:20210503
DTEND;VALUE=DATE:20210504
DTSTAMP:20260426T024859
CREATED:20210422T154721Z
LAST-MODIFIED:20210422T154721Z
UID:17441-1620000000-1620086399@goodmayesprimary.school
SUMMARY:Bank Holiday
DESCRIPTION:
URL:https://goodmayesprimary.school/event/bank-holiday-2/
CATEGORIES:Holidays
END:VEVENT
BEGIN:VEVENT
DTSTART;VALUE=DATE:20210506
DTEND;VALUE=DATE:20210507
DTSTAMP:20260426T024859
CREATED:20210422T154751Z
LAST-MODIFIED:20210422T154751Z
UID:17443-1620259200-1620345599@goodmayesprimary.school
SUMMARY:Polling Day
DESCRIPTION:
URL:https://goodmayesprimary.school/event/polling-day/
CATEGORIES:Holidays
END:VEVENT
BEGIN:VEVENT
DTSTART;TZID=Europe/London:20210524T080000
DTEND;TZID=Europe/London:20210524T170000
DTSTAMP:20260426T024859
CREATED:20210524T153007Z
LAST-MODIFIED:20210524T153007Z
UID:17514-1621843200-1621875600@goodmayesprimary.school
SUMMARY:Last Day of Term
DESCRIPTION:
URL:https://goodmayesprimary.school/event/last-day-of-term-10/
CATEGORIES:Holidays
END:VEVENT
BEGIN:VEVENT
DTSTART;VALUE=DATE:20210531
DTEND;VALUE=DATE:20210605
DTSTAMP:20260426T024859
CREATED:20210524T121218Z
LAST-MODIFIED:20210524T121242Z
UID:17497-1622419200-1622851199@goodmayesprimary.school
SUMMARY:Half Term
DESCRIPTION:
URL:https://goodmayesprimary.school/event/last-day-of-term-9/
CATEGORIES:Holidays
END:VEVENT
END:VCALENDAR