BEGIN:VCALENDAR
VERSION:2.0
PRODID:-//Goodmayes Primary School - ECPv6.15.20//NONSGML v1.0//EN
CALSCALE:GREGORIAN
METHOD:PUBLISH
X-ORIGINAL-URL:https://goodmayesprimary.school
X-WR-CALDESC:Events for Goodmayes Primary School
REFRESH-INTERVAL;VALUE=DURATION:PT1H
X-Robots-Tag:noindex
X-PUBLISHED-TTL:PT1H
BEGIN:VTIMEZONE
TZID:Europe/London
BEGIN:DAYLIGHT
TZOFFSETFROM:+0000
TZOFFSETTO:+0100
TZNAME:BST
DTSTART:20210328T010000
END:DAYLIGHT
BEGIN:STANDARD
TZOFFSETFROM:+0100
TZOFFSETTO:+0000
TZNAME:GMT
DTSTART:20211031T010000
END:STANDARD
BEGIN:DAYLIGHT
TZOFFSETFROM:+0000
TZOFFSETTO:+0100
TZNAME:BST
DTSTART:20220327T010000
END:DAYLIGHT
BEGIN:STANDARD
TZOFFSETFROM:+0100
TZOFFSETTO:+0000
TZNAME:GMT
DTSTART:20221030T010000
END:STANDARD
BEGIN:DAYLIGHT
TZOFFSETFROM:+0000
TZOFFSETTO:+0100
TZNAME:BST
DTSTART:20230326T010000
END:DAYLIGHT
BEGIN:STANDARD
TZOFFSETFROM:+0100
TZOFFSETTO:+0000
TZNAME:GMT
DTSTART:20231029T010000
END:STANDARD
END:VTIMEZONE
BEGIN:VEVENT
DTSTART;VALUE=DATE:20220609
DTEND;VALUE=DATE:20220610
DTSTAMP:20260425T014932
CREATED:20220526T152201Z
LAST-MODIFIED:20220526T152201Z
UID:20146-1654732800-1654819199@goodmayesprimary.school
SUMMARY:Yr 5 Visiting Chislehurst Caves
DESCRIPTION:
URL:https://goodmayesprimary.school/event/yr-5-visiting-chislehurst-caves/
CATEGORIES:School Trips
END:VEVENT
BEGIN:VEVENT
DTSTART;VALUE=DATE:20220610
DTEND;VALUE=DATE:20220611
DTSTAMP:20260425T014932
CREATED:20220526T152728Z
LAST-MODIFIED:20220526T152728Z
UID:20152-1654819200-1654905599@goodmayesprimary.school
SUMMARY:Reception Visiting Colchester Zoo
DESCRIPTION:
URL:https://goodmayesprimary.school/event/reception-visiting-colchester-zoo-2/
CATEGORIES:School Trips
END:VEVENT
BEGIN:VEVENT
DTSTART;VALUE=DATE:20220613
DTEND;VALUE=DATE:20220614
DTSTAMP:20260425T014932
CREATED:20220526T152405Z
LAST-MODIFIED:20220526T152405Z
UID:20148-1655078400-1655164799@goodmayesprimary.school
SUMMARY:Year 4 Visiting Ilford Synagogue
DESCRIPTION:
URL:https://goodmayesprimary.school/event/year-4-visiting-ilford-synagogue/
CATEGORIES:School Trips
END:VEVENT
BEGIN:VEVENT
DTSTART;VALUE=DATE:20220623
DTEND;VALUE=DATE:20220624
DTSTAMP:20260425T014932
CREATED:20220526T152602Z
LAST-MODIFIED:20220526T152602Z
UID:20150-1655942400-1656028799@goodmayesprimary.school
SUMMARY:Yr 3 Visiting British Museum
DESCRIPTION:
URL:https://goodmayesprimary.school/event/yr-3-visiting-british-museum/
CATEGORIES:School Trips
END:VEVENT
END:VCALENDAR