BEGIN:VCALENDAR
VERSION:2.0
PRODID:-//Goodmayes Primary School - ECPv6.15.20//NONSGML v1.0//EN
CALSCALE:GREGORIAN
METHOD:PUBLISH
X-WR-CALNAME:Goodmayes Primary School
X-ORIGINAL-URL:https://goodmayesprimary.school
X-WR-CALDESC:Events for Goodmayes Primary School
REFRESH-INTERVAL;VALUE=DURATION:PT1H
X-Robots-Tag:noindex
X-PUBLISHED-TTL:PT1H
BEGIN:VTIMEZONE
TZID:Europe/London
BEGIN:DAYLIGHT
TZOFFSETFROM:+0000
TZOFFSETTO:+0100
TZNAME:BST
DTSTART:20220327T010000
END:DAYLIGHT
BEGIN:STANDARD
TZOFFSETFROM:+0100
TZOFFSETTO:+0000
TZNAME:GMT
DTSTART:20221030T010000
END:STANDARD
BEGIN:DAYLIGHT
TZOFFSETFROM:+0000
TZOFFSETTO:+0100
TZNAME:BST
DTSTART:20230326T010000
END:DAYLIGHT
BEGIN:STANDARD
TZOFFSETFROM:+0100
TZOFFSETTO:+0000
TZNAME:GMT
DTSTART:20231029T010000
END:STANDARD
BEGIN:DAYLIGHT
TZOFFSETFROM:+0000
TZOFFSETTO:+0100
TZNAME:BST
DTSTART:20240331T010000
END:DAYLIGHT
BEGIN:STANDARD
TZOFFSETFROM:+0100
TZOFFSETTO:+0000
TZNAME:GMT
DTSTART:20241027T010000
END:STANDARD
END:VTIMEZONE
BEGIN:VEVENT
DTSTART;VALUE=DATE:20231109
DTEND;VALUE=DATE:20231110
DTSTAMP:20260423T184116
CREATED:20231025T171326Z
LAST-MODIFIED:20231025T171326Z
UID:21486-1699488000-1699574399@goodmayesprimary.school
SUMMARY:Yr 6 Sculpture Visit
DESCRIPTION:
URL:https://goodmayesprimary.school/event/yr-6-sculpture-visit/
CATEGORIES:School Trips
END:VEVENT
BEGIN:VEVENT
DTSTART;TZID=Europe/London:20231129T090000
DTEND;TZID=Europe/London:20231129T130000
DTSTAMP:20260423T184116
CREATED:20231025T172801Z
LAST-MODIFIED:20231025T172807Z
UID:21505-1701248400-1701262800@goodmayesprimary.school
SUMMARY:Yr 4 Visiting Chabad Lubavitch Centre (Synagogue)
DESCRIPTION:
URL:https://goodmayesprimary.school/event/yr-4-visiting-chabad-lubavitch-centre-synagogue/
CATEGORIES:School Trips
END:VEVENT
END:VCALENDAR