BEGIN:VCALENDAR
VERSION:2.0
PRODID:-//Goodmayes Primary School - ECPv6.15.20//NONSGML v1.0//EN
CALSCALE:GREGORIAN
METHOD:PUBLISH
X-ORIGINAL-URL:https://goodmayesprimary.school
X-WR-CALDESC:Events for Goodmayes Primary School
REFRESH-INTERVAL;VALUE=DURATION:PT1H
X-Robots-Tag:noindex
X-PUBLISHED-TTL:PT1H
BEGIN:VTIMEZONE
TZID:Europe/London
BEGIN:DAYLIGHT
TZOFFSETFROM:+0000
TZOFFSETTO:+0100
TZNAME:BST
DTSTART:20230326T010000
END:DAYLIGHT
BEGIN:STANDARD
TZOFFSETFROM:+0100
TZOFFSETTO:+0000
TZNAME:GMT
DTSTART:20231029T010000
END:STANDARD
BEGIN:DAYLIGHT
TZOFFSETFROM:+0000
TZOFFSETTO:+0100
TZNAME:BST
DTSTART:20240331T010000
END:DAYLIGHT
BEGIN:STANDARD
TZOFFSETFROM:+0100
TZOFFSETTO:+0000
TZNAME:GMT
DTSTART:20241027T010000
END:STANDARD
BEGIN:DAYLIGHT
TZOFFSETFROM:+0000
TZOFFSETTO:+0100
TZNAME:BST
DTSTART:20250330T010000
END:DAYLIGHT
BEGIN:STANDARD
TZOFFSETFROM:+0100
TZOFFSETTO:+0000
TZNAME:GMT
DTSTART:20251026T010000
END:STANDARD
END:VTIMEZONE
BEGIN:VEVENT
DTSTART;VALUE=DATE:20240509
DTEND;VALUE=DATE:20240510
DTSTAMP:20260423T054015
CREATED:20240404T142252Z
LAST-MODIFIED:20240404T142252Z
UID:21697-1715212800-1715299199@goodmayesprimary.school
SUMMARY:Wellgate Farm - In School Visit Reception
DESCRIPTION:
URL:https://goodmayesprimary.school/event/wellgate-farm-in-school-visit-reception/
CATEGORIES:School Trips
END:VEVENT
BEGIN:VEVENT
DTSTART;VALUE=DATE:20240523
DTEND;VALUE=DATE:20240524
DTSTAMP:20260423T054015
CREATED:20240404T142513Z
LAST-MODIFIED:20240404T142513Z
UID:21701-1716422400-1716508799@goodmayesprimary.school
SUMMARY:British Museum - Class 3A & 3B
DESCRIPTION:
URL:https://goodmayesprimary.school/event/british-museum-class-3a-3b/
CATEGORIES:School Trips
END:VEVENT
BEGIN:VEVENT
DTSTART;VALUE=DATE:20240524
DTEND;VALUE=DATE:20240525
DTSTAMP:20260423T054015
CREATED:20240404T142547Z
LAST-MODIFIED:20240404T142547Z
UID:21703-1716508800-1716595199@goodmayesprimary.school
SUMMARY:British Museum - Class 3S
DESCRIPTION:
URL:https://goodmayesprimary.school/event/british-museum-class-3s/
CATEGORIES:School Trips
END:VEVENT
END:VCALENDAR